Workbook

Sheet Лист1
A1: Вартість послуг з розпломбування, позачергової технічної перевірки вузлів обліку або їх складових частин та параметризація багатофункціонального лічильника електричної енергії за ініциативою замовника АТ "Херсонобленерго" з 01.10.2026р
A3: № калькуляції | B3: Вид робіт | C3: норма годин на виконання робіт | D3: витрати на оплату праці | E3: витрати на соціальні заходи | F3: матеріальні витрати | G3: витрати палива | H3: загальновиробничи витрати | I3: собівартість калькуляції | J3: Прибуток | K3: Калькуляційна вартість без ПДВ | L3: Калькуляційна вартість з ПДВ | M3: Затверджені вартості послуг (граничні вартості)
M4: для кількості від 1 до 5 коеф 1 | O4: для кількості від 6 до20 коеф 0,9 | Q4: для кількості від 21 до 50 коеф 0,8 | S4: для кількості від 51 коеф 0,5
M5: вартість без ПДВ | N5: вартість з ПДВ | O5: вартість без ПДВ | P5: вартість з ПДВ | Q5: вартість без ПДВ | R5: вартість з ПДВ | S5: вартість без ПДВ | T5: вартість з ПДВ
A6: Позачергова технічна перевірка правильності роботи засобу обліку
A7: 0201010101 | B7: Позачергова технічна перевірка правильності роботи засобу обліку (перевірка схеми вмикання) за ініціативою Замовника в електроустановках напругою 0,22 кВ | C7: 1.8 | D7: =303.01+19.11 -> 322.12 | E7: =D7*22% -> 70.8664 | F7: =[1]Лист1!$B$2 -> 7.61 | G7: 155 | H7: 187.87 | I7: =D7+E7+F7+H7+G7 -> 743.4664 | J7: 55.75 | K7: 799.2164 | L7: 959.05968 | M7: 621.04 | N7: 745.248 | O7: 558.94 | P7: 670.728 | Q7: 496.83 | R7: 596.196 | S7: 310.52 | T7: 372.624
A8: 0201010201 | B8: Позачергова технічна перевірка правильності роботи засобу обліку (перевірка схеми вмикання) за ініціативою Замовника (юридичного) 3-ф приладу обліку прямого вмикання в електроустановках напругою 0,38 кВ | C8: 2.98 | D8: =516.28+41.96 -> 558.24 | E8: =D8*22% -> 122.8128 | F8: =[1]Лист1!$B$3 -> 17.72 | G8: 155 | H8: 320.09 | I8: =D8+E8+F8+H8+G8 -> 1173.8628 | J8: 95 | K8: 1268.8628 | L8: 1522.6354 | M8: 621.04 | N8: 745.248 | O8: 558.94 | P8: 670.728 | Q8: 496.83 | R8: 596.196 | S8: 310.52 | T8: 372.624
A9: 0201010202 | B9: Позачергова технічна перевірка правильності роботи засобу обліку (перевірка схеми вмикання) за ініціативою Замовника (побутового) 3-ф приладу обліку прямого вмикання в електроустановках напругою 0,38 кВ | C9: 2.98 | D9: =515.39+19.11 -> 534.5 | E9: =D9*22% -> 117.59 | F9: 7.32 | G9: 155 | H9: 319.54 | I9: =D9+E9+F9+H9+G9 -> 1133.95 | J9: 94.83 | K9: 1228.78 | L9: 1474.536 | M9: 621.04 | N9: 745.248 | O9: 558.94 | P9: 670.728 | Q9: 496.83 | R9: 596.196 | S9: 310.52 | T9: 372.624
A10: 0201010203 | B10: Позачергова технічна перевірка правильності роботи засобу обліку (перевірка схеми вмикання) за ініціативою Замовника 3-ф багатофункціонального приладу обліку прямого вмикання в електроустановках напругою 0,38 кВ (транспорт Замовника) | C10: 3.97 | D10: =676.78 -> 676.78 | E10: =D10*22% -> 148.8916 | F10: =[1]Лист1!$B$5 -> 7.46 | G10: 0 | H10: 419.6 | I10: =D10+E10+F10+H10+G10 -> 1252.7316 | J10: 124.53 | K10: 1377.2616 | L10: 1652.7139 | M10: 621.04 | N10: 745.248 | O10: 558.94 | P10: 670.728 | Q10: 496.83 | R10: 596.196 | S10: 310.52 | T10: 372.624
A11: 0201010301 | B11: Позачергова технічна перевірка правильності роботи засобу обліку (перевірка схеми вмикання) за ініціативою Замовника (юридичного) 3-ф приладу обліку, включеного через вимірювадбні трансформатори струму, в електроустановках напругою 0,38 кВ | C11: 3.4 | D11: =591.78+41.96 -> 633.74 | E11: =D11*22% -> 139.4228 | F11: =[1]Лист1!$B$6 -> 17.72 | G11: 155 | H11: 366.9 | I11: =D11+E11+F11+H11+G11 -> 1312.7828 | J11: 108.89 | K11: 1421.6728 | L11: 1706.0074 | M11: 931.56 | N11: 1117.872 | O11: 838.4 | P11: 1006.08 | Q11: 745.25 | R11: 894.3 | S11: 465.78 | T11: 558.936
A12: 0201010302 | B12: Позачергова технічна перевірка правильності роботи засобу обліку (перевірка схеми вмикання) за ініціативою Замовника (побутового) 3-ф приладу обліку, включеного через вимірювальні трансформатори струму, в електроустановках напругою 0,38 кВ | C12: 3.4 | D12: =590.98+38.22 -> 629.2 | E12: =D12*22% -> 138.424 | F12: 9.62 | G12: 155 | H12: 366.41 | I12: =D12+E12+F12+H12+G12 -> 1298.654 | J12: 108.74 | K12: 1407.394 | L12: 1688.8728 | M12: 931.56 | N12: 1117.872 | O12: 838.4 | P12: 1006.08 | Q12: 745.25 | R12: 894.3 | S12: 465.78 | T12: 558.936
A13: 0201010303 | B13: Позачергова технічна перевірка правильності роботи засобу обліку (перевірка схеми вмикання) за ініціативою Замовника 3-ф багатофункціонального приладу обліку, включеного через вимірювальні трансформатори струму, в електроустановках напругою 0,38 кВ (транспорт Замовника) | C13: 3.97 | D13: 676.78 | E13: =D13*22% -> 148.8916 | F13: =[1]Лист1!$B$8 -> 8.31 | G13: 0 | H13: 419.6 | I13: =D13+E13+F13+H13+G13 -> 1253.5816 | J13: 124.53 | K13: 1378.1116 | L13: 1653.7339 | M13: 931.56 | N13: 1117.872 | O13: 838.4 | P13: 1006.08 | Q13: 745.25 | R13: 894.3 | S13: 465.78 | T13: 558.936
A14: 0201010401 | B14: Позачергова технічна перевірка правильності роботи засобу обліку (перевірка схеми підключення) за ініціативою Замовника в електроустановках напругою 6, 10, 20 кВ | C14: 3.5 | D14: =599.52+42.41 -> 641.93 | E14: =D14*22% -> 141.2246 | F14: =[1]Лист1!$B$9 -> 9.91 | G14: 155 | H14: 371.7 | I14: =D14+E14+F14+H14+G14 -> 1319.7646 | J14: 110.31 | K14: 1430.0746 | L14: 1716.0895 | M14: 1242.08 | N14: 1490.496 | O14: 1117.87 | P14: 1341.444 | Q14: 993.66 | R14: 1192.392 | S14: 621.04 | T14: 745.248
A15: 0201010403 | B15: Позачергова технічна перевірка правильності роботи засобу обліку (перевірка схеми вмикання) за ініціативою Замовника 3-ф багатофункціонального приладу обліку в електроустановках напругою 6, 10, 20кВ (транспорт Замовника) | C15: 4.28 | D15: =733.23 -> 733.23 | E15: =D15*22% -> 161.3106 | F15: =[1]Лист1!$B$10 -> 7.46 | G15: 0 | H15: 454.6 | I15: =D15+E15+F15+H15+G15 -> 1356.6006 | J15: 134.91 | K15: 1491.5106 | L15: 1789.8127 | M15: 1242.08 | N15: 1490.496 | O15: 1117.87 | P15: 1341.444 | Q15: 993.66 | R15: 1192.392 | S15: 621.04 | T15: 745.248
A16: 0201010501 | B16: Позачергова технічна перевірка правильності роботи засобу обліку (перевірка схеми підключення) за ініціативою Замовника в електроустановках напругою 27,5 кВ і вище | C16: 3.5 | D16: =600.57+42.41 -> 642.98 | E16: =D16*22% -> 141.4556 | F16: =[1]Лист1!$B$11 -> 9.91 | G16: 155 | H16: 372.35 | I16: =D16+E16+F16+H16+G16 -> 1321.6956 | J16: 110.51 | K16: 1432.2056 | L16: 1718.6467 | M16: 1242.08 | N16: 1490.496 | O16: 1117.87 | P16: 1341.444 | Q16: 993.66 | R16: 1192.392 | S16: 621.04 | T16: 745.248
A17: 0201010503 | B17: Позачергова технічна перевірка правильності роботи засобу обліку (перевірка схеми вмикання) за ініціативою Замовника 3-ф багатофункціонального приладу обліку в електроустановках напругою понад 27,5кВ (транспорт Замовника) | C17: 4.28 | D17: 733.23 | E17: =D17*22% -> 161.3106 | F17: =[1]Лист1!$B$12 -> 7.46 | G17: 0 | H17: 454.6 | I17: =D17+E17+F17+H17+G17 -> 1356.6006 | J17: 134.91 | K17: 1491.5106 | L17: 1789.8127 | M17: 1242.08 | N17: 1490.496 | O17: 1117.87 | P17: 1341.444 | Q17: 993.66 | R17: 1192.392 | S17: 621.04 | T17: 745.248
A18: Розпломбавання вузла обліку
A19: 0201020102 | B19: Розпломбування вузла обліку або його частини за ініціативою Замовника в електроустановках напругою 0,22 кВ | C19: 0.74 | D19: =114.7+21.19 -> 135.89 | E19: =D19*22% -> 29.8958 | F19: =[1]Лист1!$B$13 -> 1 | G19: 155 | H19: 71.11 | I19: =D19+E19+F19+H19+G19 -> 392.8958 | J19: 21.1 | K19: 413.9958 | L19: 496.79496 | M19: 310.52 | N19: 372.624 | O19: 279.47 | P19: 335.364 | Q19: 248.42 | R19: 298.104 | S19: 155.26 | T19: 186.312
A20: 0201020202 | B20: Розпломбування вузла обліку або його частини за ініціативою Замовника 3-ф приладу обліку прямого вмикання в електроустановках напругою 0,38 кВ | C20: 0.74 | D20: =114.7+21.19 -> 135.89 | E20: =D20*22% -> 29.8958 | F20: =[1]Лист1!$B$14 -> 1 | G20: 155 | H20: 71.11 | I20: =D20+E20+F20+H20+G20 -> 392.8958 | J20: 21.1 | K20: 413.9958 | L20: 496.79496 | M20: 310.52 | N20: 372.624 | O20: 279.47 | P20: 335.364 | Q20: 248.42 | R20: 298.104 | S20: 155.26 | T20: 186.312
A21: 0201020302 | B21: Розпломбування вузла обліку або його частини за ініциативою Замовника 3-ф приладу обліку, включеного через вимірювальні трансформатори струму, в електроустановках напругою 0,38 кВ | C21: 0.74 | D21: =114.7+21.19 -> 135.89 | E21: =D21*22% -> 29.8958 | F21: =[1]Лист1!$B$15 -> 1 | G21: 155 | H21: 71.11 | I21: =D21+E21+F21+H21+G21 -> 392.8958 | J21: 21.1 | K21: 413.9958 | L21: 496.79496 | M21: 310.52 | N21: 372.624 | O21: 279.47 | P21: 335.364 | Q21: 248.42 | R21: 298.104 | S21: 155.26 | T21: 186.312
A22: 0201020401 | B22: Розпломбування вузла обліку або його частини за ініціативою Замовника в електроустановках напругою 6, 10, 20 кВ (електроустановка Замовника) | C22: 0.73 | D22: =112.86+21.19 -> 134.05 | E22: =D22*22% -> 29.491 | F22: =[1]Лист1!$B$16 -> 1.1 | G22: 155 | H22: 69.97 | I22: =D22+E22+F22+H22+G22 -> 389.611 | J22: 20.77 | K22: 410.381 | L22: 492.4572 | M22: 310.52 | N22: 372.624 | O22: 279.47 | P22: 335.364 | Q22: 248.42 | R22: 298.104 | S22: 155.26 | T22: 186.312
A23: 0201020501 | B23: Розломбування вузла обліку або його частини за ініціативою Замовника в електроустановках напругою 27,5 кВ і вище (електроустановка Замовника) | C23: 0.73 | D23: =112.86+21.19 -> 134.05 | E23: =D23*22% -> 29.491 | F23: =[1]Лист1!$B$17 -> 1.1 | G23: 155 | H23: 69.97 | I23: =D23+E23+F23+H23+G23 -> 389.611 | J23: 20.77 | K23: 410.381 | L23: 492.4572 | M23: 310.52 | N23: 372.624 | O23: 279.47 | P23: 335.364 | Q23: 248.42 | R23: 298.104 | S23: 155.26 | T23: 186.312
A24: Параметризація багатофункціонального електронного лічильника за ініціативою замовника
A25: 02010301 | B25: Параметризація багатофункціонального електронного лічильника за ініціативою Замовника без виїзду на об'єкт | C25: 1.36 | D25: 208.78 | E25: =D25*22% -> 45.9316 | F25: =[1]Лист1!$B$18 -> 8.85 | G25: 0 | H25: 129.44 | I25: =D25+E25+F25+H25 -> 393.0016 | J25: 38.42 | K25: 431.4216 | L25: 517.70592 | M25: 310.52 | N25: 372.624 | O25: 279.47 | P25: 335.364 | Q25: 248.42 | R25: 298.104 | S25: 155.26 | T25: 186.312
A26: 02010303 | B26: Параметризація багатофункціонального електронного лічильника за ініціативою Замовника з виїздом на об'єкт | C26: 1.26 | D26: =211.11+21.32 -> 232.43 | E26: =D26*22% -> 51.1346 | F26: =[1]Лист1!$B$19 -> 8.85 | G26: 155 | H26: 130.89 | I26: =D26+E26+F26+H26+G26 -> 578.3046 | J26: 38.84 | K26: 617.1446 | L26: 740.57352 | M26: 621.04 | N26: 745.248 | O26: 558.94 | P26: 670.728 | Q26: 496.83 | R26: 596.196 | S26: 310.52 | T26: 372.624
A27: 02010304 | B27: Дистанційна параметризація багатофункціонального електронного лічильника, що входить до складу автоматизованої системи, за ініціативою Замовника | C27: 0.78 | D27: 112.94 | E27: =D27*22% -> 24.8468 | F27: =[1]Лист1!$B$20 -> 11.4 | G27: 0 | H27: 70.02 | I27: =D27+E27+F27+H27+G27 -> 219.2068 | J27: 20.78 | K27: 239.9868 | L27: 287.98416 | M27: 310.52 | N27: 372.624 | O27: 279.47 | P27: 335.364 | Q27: 248.42 | R27: 298.104 | S27: 155.26 | T27: 186.312

Sheet Лист2

Sheet Лист3
